BEGIN:VCALENDAR
VERSION:2.0
PRODID:SchoolNow
CALSCALE:GREGORIAN
BEGIN:VEVENT
UID:81190aa6-df56-11f0-ba19-0affea7dd9f7
DTSTAMP:20260115T175948Z
SUMMARY:CDD Board Meeting - Jan 20th\,  2026
LOCATION:District Office\, 313 Campus Street\, Celebration\, FL 34747 or vi
 a Zoom (https://us02web.zoom.us/j/3797970647) or by dialing 646 558 8656\,
  Meeting ID: 379 797 0647.
URL;VALUE=URI:https://www.celebrationcdd.org/calendar/8826724/cdd-board-mee
 ting-jan-20th-2026
DTSTART:20260120T220000Z
DTEND:20260120T230000Z
ATTACH;FILENAME=2026-01-20 Celebration CDD Agenda Package.pdf;FMTTYPE=appli
 cation/pdf:https://campussuite-storage.s3.amazonaws.com/prod/1559087/659dc
 336-3107-11ec-8295-02f95f1c9203/3059893/b65d8d02-f0c4-11f0-b1de-0a58a9feac
 02/file/2026-01-20 Celebration CDD Agenda Package.pdf
END:VEVENT
END:VCALENDAR
