BEGIN:VCALENDAR
VERSION:2.0
PRODID:SchoolNow
CALSCALE:GREGORIAN
BEGIN:VEVENT
UID:4b95fcc8-989c-11f0-b72f-0a58a9feac02
DTSTAMP:20260407T140929Z
SUMMARY:CDD Board Meeting - Sept. 2026
LOCATION:District Office\, 313 Campus Street\, Celebration\, FL 34747
URL;VALUE=URI:https://www.celebrationcdd.org/calendar/8656841/cdd-board-mee
 ting-sept-2026
DTSTART:20260929T210000Z
DTEND:20260929T220000Z
END:VEVENT
END:VCALENDAR
