BEGIN:VCALENDAR
VERSION:2.0
PRODID:SchoolNow
CALSCALE:GREGORIAN
BEGIN:VEVENT
UID:423543a0-989c-11f0-ad91-0a58a9feac02
DTSTAMP:20260407T140920Z
SUMMARY:CDD Board Meeting - Aug. 2026
LOCATION:District Office\, 313 Campus Street\, Celebration\, FL 34747
URL;VALUE=URI:https://www.celebrationcdd.org/calendar/8656840/cdd-board-mee
 ting-aug-2026
DTSTART:20260825T210000Z
DTEND:20260825T220000Z
END:VEVENT
END:VCALENDAR
