BEGIN:VCALENDAR
VERSION:2.0
PRODID:SchoolNow
CALSCALE:GREGORIAN
BEGIN:VEVENT
UID:38994e86-989c-11f0-bc5b-0a58a9feac02
DTSTAMP:20260407T140911Z
SUMMARY:CDD Board Meeting - Jul. 2026
LOCATION:District Office\, 313 Campus Street\, Celebration\, FL 34747
URL;VALUE=URI:https://www.celebrationcdd.org/calendar/8656839/cdd-board-mee
 ting-jul-2026
DTSTART:20260728T210000Z
DTEND:20260728T220000Z
END:VEVENT
END:VCALENDAR
