BEGIN:VCALENDAR
VERSION:2.0
PRODID:SchoolNow
CALSCALE:GREGORIAN
BEGIN:VEVENT
UID:2fdd91e4-989c-11f0-8cf3-0a58a9feac02
DTSTAMP:20260407T140903Z
SUMMARY:CDD Board Meeting - Jun. 2026
LOCATION:District Office\, 313 Campus Street\, Celebration\, FL 34747
URL;VALUE=URI:https://www.celebrationcdd.org/calendar/8656838/cdd-board-mee
 ting-jun-2026
DTSTART:20260623T210000Z
DTEND:20260623T220000Z
END:VEVENT
END:VCALENDAR
