BEGIN:VCALENDAR
VERSION:2.0
PRODID:SchoolNow
CALSCALE:GREGORIAN
BEGIN:VEVENT
UID:252dcf48-989c-11f0-8249-0a58a9feac02
DTSTAMP:20260407T140856Z
SUMMARY:CDD Board Meeting - May 18\, 2026
LOCATION:District Office\, 313 Campus Street\, Celebration\, FL 34747
URL;VALUE=URI:https://www.celebrationcdd.org/calendar/8656837/cdd-board-mee
 ting-may-18-2026
DTSTART:20260518T210000Z
DTEND:20260518T220000Z
END:VEVENT
END:VCALENDAR
