BEGIN:VCALENDAR
VERSION:2.0
PRODID:SchoolNow
CALSCALE:GREGORIAN
BEGIN:VEVENT
UID:1b3d1372-989c-11f0-adb1-0a58a9feac02
DTSTAMP:20260407T140850Z
SUMMARY:CDD Budget Workshop - May 2026
LOCATION:District Office\, 313 Campus Street\, Celebration\, FL 34747
URL;VALUE=URI:https://www.celebrationcdd.org/calendar/8656836/cdd-board-mee
 ting-may-2026
DTSTART:20260504T210000Z
DTEND:20260504T220000Z
END:VEVENT
END:VCALENDAR
