BEGIN:VCALENDAR
VERSION:2.0
PRODID:SchoolNow
CALSCALE:GREGORIAN
BEGIN:VEVENT
UID:10ba9550-989c-11f0-ba7c-0a58a9feac02
DTSTAMP:20260420T191917Z
SUMMARY:CDD Board Meeting - Apr. 20\, 2026
LOCATION:District Office\, 313 Campus Street\, Celebration\, FL 34747
URL;VALUE=URI:https://www.celebrationcdd.org/calendar/8656835/cdd-board-mee
 ting-apr-20-2026
DTSTART:20260420T210000Z
DTEND:20260420T220000Z
ATTACH;FILENAME=2026-04-20 Celebration CDD Revised Meeting Agenda.pdf;FMTTY
 PE=application/pdf:https://campussuite-storage.s3.amazonaws.com/prod/15590
 87/659dc336-3107-11ec-8295-02f95f1c9203/3091041/cf7a746a-3ced-11f1-ae16-0a
 ffda22389f/file/2026-04-20 Celebration CDD Revised Meeting Agenda.pdf
END:VEVENT
END:VCALENDAR
