BEGIN:VCALENDAR
VERSION:2.0
PRODID:SchoolNow
CALSCALE:GREGORIAN
BEGIN:VEVENT
UID:07a3fd08-989c-11f0-a9f2-0affdb44ff1b
DTSTAMP:20260325T164910Z
SUMMARY:CDD Budget Workshop - Apr. 2026 - Cancelled
LOCATION:District Office\, 313 Campus Street\, Celebration\, FL 34747 or vi
 a Zoom (https://us02web.zoom.us/j/3797970647) or by dialing 646 558 8656\,
  Meeting ID: 379 797 0647.
URL;VALUE=URI:https://www.celebrationcdd.org/calendar/8656834/cdd-budget-wo
 rkshop-apr-2026
DTSTART:20260406T210000Z
DTEND:20260406T220000Z
END:VEVENT
END:VCALENDAR
