BEGIN:VCALENDAR
VERSION:2.0
PRODID:SchoolNow
CALSCALE:GREGORIAN
BEGIN:VEVENT
UID:fef0ae18-989b-11f0-bbd3-0a58a9feac02
DTSTAMP:20260317T095450Z
SUMMARY:CDD Board Meeting - Mar. 24\, 2026
LOCATION:District Office\, 313 Campus Street\, Celebration\, FL 34747 or vi
 a Zoom (https://us02web.zoom.us/j/3797970647) or by dialing 646 558 8656\,
  Meeting ID: 379 797 0647.
URL;VALUE=URI:https://www.celebrationcdd.org/calendar/8656833/cdd-board-mee
 ting-mar-24-2026
DTSTART:20260323T210000Z
DTEND:20260323T220000Z
ATTACH;FILENAME=2026-03-23 Celebration CDD Meeting Agenda.pdf;FMTTYPE=appli
 cation/pdf:https://campussuite-storage.s3.amazonaws.com/prod/1559087/659dc
 336-3107-11ec-8295-02f95f1c9203/3080432/53807ef2-21e7-11f1-b766-0affe00f81
 d1/file/2026-03-23 Celebration CDD Meeting Agenda.pdf
END:VEVENT
END:VCALENDAR
