BEGIN:VCALENDAR
VERSION:2.0
PRODID:SchoolNow
CALSCALE:GREGORIAN
BEGIN:VEVENT
UID:ee880e86-989b-11f0-91db-0affdb44ff1b
DTSTAMP:20260217T223113Z
SUMMARY:CDD Board Meeting - Feb. 2026
LOCATION:District Office\, 313 Campus Street\, Celebration\, FL 34747 or vi
 a Zoom (https://us02web.zoom.us/j/3797970647) or by dialing 646 558 8656\,
  Meeting ID: 379 797 0647.
URL;VALUE=URI:https://www.celebrationcdd.org/calendar/8656831/cdd-board-mee
 ting-feb-2026
DTSTART:20260224T220000Z
DTEND:20260224T230000Z
ATTACH;FILENAME=2026-02-24 Celebration CDD Meeting Agenda.pdf;FMTTYPE=appli
 cation/pdf:https://campussuite-storage.s3.amazonaws.com/prod/1559087/659dc
 336-3107-11ec-8295-02f95f1c9203/3071483/5a5bbb80-0c50-11f1-9b17-0a58a9feac
 02/file/2026-02-24 Celebration CDD Meeting Agenda.pdf
END:VEVENT
END:VCALENDAR
