BEGIN:VCALENDAR
VERSION:2.0
PRODID:SchoolNow
CALSCALE:GREGORIAN
BEGIN:VEVENT
UID:e6706a54-989b-11f0-b01b-0affe3b30109
DTSTAMP:20260122T212942Z
SUMMARY:CDD Board Meeting - Jan. 2026
LOCATION:District Office\, 313 Campus Street\, Celebration\, FL 34747 or vi
 a Zoom (https://us02web.zoom.us/j/3797970647) or by dialing 646 558 8656\,
  Meeting ID: 379 797 0647.
URL;VALUE=URI:https://www.celebrationcdd.org/calendar/8656830/cdd-board-mee
 ting-jan-2026
DTSTART:20260127T220000Z
DTEND:20260127T230000Z
ATTACH;FILENAME=2026-01-27 Celebration CDD Meeting Agenda Package.pdf;FMTTY
 PE=application/pdf:https://campussuite-storage.s3.amazonaws.com/prod/15590
 87/659dc336-3107-11ec-8295-02f95f1c9203/3063094/72ccbad8-f7d9-11f0-ad59-02
 3580c3c903/file/2026-01-27 Celebration CDD Meeting Agenda Package.pdf
END:VEVENT
END:VCALENDAR
