BEGIN:VCALENDAR
VERSION:2.0
PRODID:SchoolNow
CALSCALE:GREGORIAN
BEGIN:VEVENT
UID:dcd2a69c-989b-11f0-bd0a-0256aee05833
DTSTAMP:20251211T104438Z
SUMMARY:CDD Board Meeting - Dec. 2025
LOCATION:District Office\, 313 Campus Street\, Celebration\, FL 34747 or vi
 a Zoom (https://us02web.zoom.us/j/3797970647) or by dialing 646 558 8656\,
  Meeting ID: 379 797 0647.
URL;VALUE=URI:https://www.celebrationcdd.org/calendar/8656824/cdd-board-mee
 ting-dec-2025
DTSTART:20251216T220000Z
DTEND:20251216T230000Z
ATTACH;FILENAME=2025-12-16 Celebration CDD Meeting AgendaR.pdf;FMTTYPE=appl
 ication/pdf:https://campussuite-storage.s3.amazonaws.com/prod/1559087/659d
 c336-3107-11ec-8295-02f95f1c9203/3050511/5f46d04c-d67e-11f0-a320-0a58a9fea
 c02/file/2025-12-16 Celebration CDD Meeting AgendaR.pdf
END:VEVENT
END:VCALENDAR
