BEGIN:VCALENDAR
VERSION:2.0
PRODID:SchoolNow
CALSCALE:GREGORIAN
BEGIN:VEVENT
UID:d579fddc-989b-11f0-a794-0e84c27ea6fb
DTSTAMP:20251112T214633Z
SUMMARY:CDD Board Meeting - Nov. 2025
LOCATION:District Office\, 313 Campus Street\, Celebration\, FL 34747 or vi
 a Zoom (https://us02web.zoom.us/j/3797970647) or by dialing 646 558 8656\,
  Meeting ID: 379 797 0647.
URL;VALUE=URI:https://www.celebrationcdd.org/calendar/8656823/cdd-board-mee
 ting-nov-2025
DTSTART:20251118T220000Z
DTEND:20251118T230000Z
ATTACH;FILENAME=2025-11-18 Celebration Meeting Agenda Package.pdf;FMTTYPE=a
 pplication/pdf:https://campussuite-storage.s3.amazonaws.com/prod/1559087/6
 59dc336-3107-11ec-8295-02f95f1c9203/3037349/0ae432d4-c011-11f0-8a20-0e927d
 5bc80f/file/2025-11-18 Celebration Meeting Agenda Package.pdf
END:VEVENT
END:VCALENDAR
