BEGIN:VCALENDAR
VERSION:2.0
PRODID:SchoolNow
CALSCALE:GREGORIAN
BEGIN:VEVENT
UID:a24658a6-1f7f-11f0-b000-0a58a9feac02
DTSTAMP:20250724T152426Z
SUMMARY:Special Board Meeting (Budget Hearing)
LOCATION:District Office\, 313 Campus Street\, Celebration\, FL 34747 or vi
 a Zoom (https://us02web.zoom.us/j/3797970647) or by dialing 646 558 8656\,
  Meeting ID: 379 797 0647.
URL;VALUE=URI:https://www.celebrationcdd.org/calendar/7983493/special-board
 -meeting-budget-hearing
DTSTART:20250811T210000Z
DTEND:20250811T220000Z
END:VEVENT
END:VCALENDAR
